Workbook

Sheet DPR
A1: Detail Project Report
A5: Session 2025-26
A8: Renovation Work
A10: Subcenter- ATMALPUR BONGLA
A11: Block- Bahadarabad
A17: Estimate Cost: (Include GST)

Sheet Summary
B2: Work Details
B3: Sl.No. | C3: Description | G3: Amount
B4: 1.1 | C4: P.C.C. WORK
B5: 1.2 | C5: Tile Work
B6: 1.3 | C6: PAINT WORK
B7: 1.4 | C7: Door and Window Repairing
B8: 1.5 | C8: MS Display board with 2mm thick sheet used
B9: 1.6 | C9: WATER SUPPLY
B10: 1.7 | C10: Roof repairing work
B11: 1.8 | C11: TLM Painting Work
B12: 1.9 | C12: Electrification and other Maintenance Work
B13: TOTAL ABSTRACT COST
B14: ITC (85%)
B15: GST 18%
B16: ITC CONTRIBUTION WITH 18% GST
B17: LOCAL CONTRIBUTION (15% OF ABSTRACT COST)
B18: Grand Total

Sheet Abstract
A2: WORK DETAIL-SUB CENTRE ATMALPUR BONGLA
A3: ABSTRACT OF COST
A4: Sr No | B4: Item description | C4: DSR/S0R | D4: Unit | E4: Quantity | F4: Rate | G4: AMOUNT
B5: P.C.C Work
A6: 1 | B6: Providing and laying in position cement concrete of specified grade excluding the cost of centering (1 Cement : 4 coarse sand : 8 graded stone aggregate 40 mm nominal size). | C6: sOR MORD 11-4-1-2 2019 | D6: CUM | E6: ='Detail Measurement'!H5 -> 4
B7: TILE WORK
A8: 2 | B8: Providing and fixing Ist quality ceramic glazed wall tiles conforming to IS: 15622 (thickness to be specified by the manufacturer), of approved make, in all colours, shades except burgundy, bottle green, black of any size as approved by Engineer-in-Charge, in skirting, risers of steps and dados, over 12 mm thick bed of cement mortar 1:3 (1 cement : 3 coarse sand) and jointing with grey cement slurry @ 3.3kg per sqm, including pointing in white cement mixed with pigment of matching shade complete. | C8: DSR VOL 1 8.13 | D8: SQM | E8: ='Detail Measurement'!H13 -> 51.6
A9: 3 | B9: shaped interlocking paver block with bass cover 50 MM thick. | C9: DSR VOL2 13.6 | D9: SQM | E9: ='Detail Measurement'!H18 -> 121.2
B10: total
B11: PAINT WORK
A12: 4 | B12: Distempering with 1st quality acrylic distemper (ready mixed) having VOC content less than 50 gram/litre, of approved manufacturer and of required shade and colour all complete to achieve even shade and colour :New work (two or more coats) over and including water thinnable priming coat with cement primer having VOC content less than 50 gram/litre DSR 13.41 | C12: DRS VOL 2 13.8 | D12: SQM | E12: ='Detail Measurement'!H32 -> 582.45
A13: 5 | B13: Providing and applying white cement based putty of average thickness 1 mm, of approved brand and manufacturer, over the plastered wall surface to prepare the surface even and smooth complete. | C13: DRS VOL 2 13.8 | D13: SQM | E13: ='Detail Measurement'!H34 -> 582.45
A14: 6 | B14: 12mm cement plaster finished with floating coat of weat cement of mix. 1:3 taking 10 %of total area of wall | C14: SOR MORD 12-3 | D14: SQM | E14: ='Detail Measurement'!H36 -> 116.49
A15: 7 | B15: Painting with synthetic enamel paint of approved brand and manufacture of required colour to give an even shade : Two or more coats on new work over an under coat of suitable shade with ordinary paint of approved brand and manufacture | C15: DSR VOL 2 13.62.1 | D15: SQM | E15: ='Detail Measurement'!H42 -> 56.58
B16: TOTAL
B17: DOOR AND WINDOW REPAIRING WORK
A18: 8 | B18: Providing and fixing fly proof galvanisedM.Swire gauze to windows and clerestory windows using galvanisedM.S. wire gauge with average width of aperture1.4mm inbothdirectionswithwireof dia. 0.63 mm. With 12 mm mild steel U beading. | C18: DSR VOL1 9.5.1.2 | D18: SQM | E18: ='Detail Measurement'!H47 -> 8.28
A19: 9 | B19: Providing & fixing glass panes with putty and glazing clips in steel doors, windows, clerestory windows alll complete.With 4.0 mm thick glass panes. DRS 10.3 | C19: DSR 10.3.1 | D19: SQM | E19: ='Detail Measurement'!H48 -> 10.08
A20: 10 | B20: Providing and fixing 2 mm thick M.S. sheet sliding-shutters, with frame and diagonal braces of 40x40x6 mm angle iron, 3 mm M.S. gusset plates at the junctions and corners, 25 mm dia pulley, 40x40x6 mm angle and T iron guide at the top and bottom respectively, including applying a priming coat of approved steel primer | C20: DSR10.4 | D20: SQM | E20: ='Detail Measurement'!H50 -> 4.2
B21: TOTAL
A22: 11 | B22: MS Display board with 2mm thick sheet used | C22: LS | D22: SQM | E22: ='Detail Measurement'!H53 -> 4.8
B23: WATER SUPPLY
A24: 12 | B24: Water tank PVC, 1.k.Liters with laying and jointing, 5 Layer protection | D24: NOS | E24: ='Detail Measurement'!H55 -> 1
A25: 13 | B25: 15mm dia G.I medium pipe with laying and jointing including supply of all jointing materials like white lead, hamp,oil etc. IS:1239 Part 1st | C25: DSR 18.101 | D25: RAM | E25: ='Detail Measurement'!H56 -> 15
A26: 14 | B26: Supply and fixing brass water tap including all work | C26: DSR 18.49.1 | D26: NOS | E26: ='Detail Measurement'!H57 -> 4
A27: 15 | B27: Providingand fixingwashbasinwithC.I. brackets,15mmC.P.brasspillar taps,32 mmC.P.brasswasteofstandardpattern, includingpaintingof fittingsandbrackets, cutting and making good the walls wherever require:White Vitreous China Washbasinsize630x450mmwithapair of 15 mm C.P . brass pillar taps | C27: DSR VOL2 17.7.1 | D27: NOS | E27: ='Detail Measurement'!H58 -> 1
B28: TOTAL
B29: ROOF REPAIRING WORK
A30: 16 | B30: Provinding and laying water proofing treatment on roofs of slab by applying cement compound consisting of applying (a) after surface preparation , first layer of slurry of cement @ 0.488 kg/sqm mixed with water proofing cement compound @0.253 kg/sqm (b)laying second layer of fiber glass cloth when the first layer is still green. overlaps of joint of fiber cloth should not be less then 10cm (c) third layer of 1.5 mm thickness consisting of slurry of cement @1.289 kg/sqm mixed with water proofing cement compound @0.67 kg/sqm and coarse sand @ 1.289 kg/sqm. this will be allowed to air cure for 4 hour followed by water curing for 48 hour. the entire treatment will be taken upto 30cm on parapet wall and tucked into groove in parapet all around ( d) fourth and final layer of birck tiling with cement mortar. DRS 67.64 | C30: DSR67.64 | D30: SQM | E30: 82.5
A31: 17 | B31: 12mm cement finished with floating coat of weat cement of mix. 1:4 | C31: SOR MORD 12-3 | D31: SQM | E31: ='Detail Measurement'!H63 -> 82.5
B32: TOTAL
A33: 18 | B33: electrification and other maintenance works | C33: LS | D33: NOS | E33: ='Detail Measurement'!H64 -> 1 | K33: S
A34: 19 | B34: WALL painting TLM | C34: LS | D34: SQM | E34: ='Detail Measurement'!H69 -> 51.5
B35: Total

Sheet Detail Measurement
C2: DETAILS OF MEASURMENT
B3: S.NO | C3: ITEMS | D3: NO | E3: L | F3: B | G3: H/D | H3: QTY | I3: UNIT
C4: CONCRETE WORK
B5: 1 | C5: Providing and laying in position cement concrete of specified grade excluding the cost of centering and shuttering - All work up to plinth level 1:4:8 (1 Cement : 4 coarse sand : 8 graded stone aggregate 40 mm nominal size). | D5: 1 | E5: 20 | F5: 1 | G5: 0.2 | H5: =E5*F5*G5 -> 4 | I5: CUM
C6: TILE WORK
B7: 2 | C7: Providing and fixing Ist quality ceramic glazed wall tiles conforming to IS: 15622 (thickness to be specified by the manufacturer), of approved make, in all colours, shades except burgundy, bottle green, black of any size as approved by Engineer-in-Charge, in skirting, risers of steps and dados, over 12 mm thick bed of cement mortar 1:3 (1 cement : 3 coarse sand) and jointing with grey cement slurry @ 3.3kg per sqm, including pointing in white cement mixed with pigment of matching shade complete. | D7: 2 | E7: 2.8 | G7: 1.5 | H7: =D7*E7*G7 -> 8.4
D8: 2 | E8: 3.1 | G8: 1.5 | H8: =D8*E8*G8 -> 9.3
D9: 2 | E9: 3.2 | G9: 1.5 | H9: =D9*E9*G9 -> 9.6
D10: 2 | E10: 2.8 | G10: 1.5 | H10: =D10*E10*G10 -> 8.4
D11: 2 | E11: 2.8 | G11: 1.5 | H11: =D11*E11*G11 -> 8.4
D12: 2 | E12: 2.5 | G12: 1.5 | H12: =D12*E12*G12 -> 7.5
H13: =SUM(H7:H12) -> 51.6 | I13: SQM
B14: 3 | C14: I shaped interlocking paver block with bass cover | D14: 1 | E14: 18 | F14: 1.3 | H14: =E14*F14 -> 23.4
D15: 2 | E15: 6 | F15: 1.5 | H15: =D15*E15*F15 -> 18
D16: 1 | E16: 13 | F16: 4.6 | H16: =D16*E16*F16 -> 59.8
D17: 1 | E17: 4 | F17: 5 | H17: =E17*F17 -> 20
H18: =SUM(H14:H17) -> 121.2 | I18: SQM
B19: 4 | C19: Distempering with 1st quality acrylic distemper (ready mixed) having VOC content less than 50 gram/litre, of approved manufacturer and of required shade and colour all complete to achieve even shade and colour :New work (two or more coats) over and including water thinnable priming coat with cement primer having VOC content less than 50 gram/litre DSR 13.41 | D19: 4 | E19: 13 | G19: 3.3 | H19: =D19*E19*G19 -> 171.6 | I19: SQM
D20: 4 | E20: 6.6 | G20: 3.3 | H20: =D20*E20*G20 -> 87.12
D21: 6 | E21: 2.8 | G21: 3.3 | H21: =D21*E21*G21 -> 55.44
D22: 2 | E22: 6.3 | G22: 3.3 | H22: =D22*E22*G22 -> 41.58
D23: 4 | E23: 2.3 | G23: 3.3 | H23: =D23*E23*G23 -> 30.36
D24: 2 | E24: 3.1 | G24: 3.3 | H24: =D24*E24*G24 -> 20.46
D25: 1 | E25: 1.9 | G25: 3.3 | H25: =D25*E25*G25 -> 6.27
D26: 1 | E26: 3 | G26: 3.3 | H26: =D26*E26*G26 -> 9.9
D27: 4 | E27: 2.2 | G27: 3.3 | H27: =D27*E27*G27 -> 29.04
D28: 2 | E28: 1.1 | G28: 3.3 | H28: =D28*E28*G28 -> 7.26
D29: 2 | E29: 4.1 | G29: 3.3 | H29: =D29*E29*G29 -> 27.06
D30: 2 | E30: 1.6 | G30: 3.3 | H30: =D30*E30*G30 -> 10.56
D31: 1 | E31: 13 | G31: 6.6 | H31: =D31*E31*G31 -> 85.8
H32: =SUM(H19:H31) -> 582.45
B34: 5 | C34: Providing and applying white cement based putty of average thickness 1 mm, of approved brand and manufacturer, over the plastered wall surface to prepare the surface even and smooth complete. | H34: 582.45 | I34: SQM
B36: 6 | C36: Wall Plastering 20 % total area, 12 mm plaster mix 1:4 | H36: =H34*20% -> 116.49 | I36: SQM
B37: 7 | C37: Painting with synthetic enamel paint of approved brand and manufacture of required colour to give an even shade : Two or more coats on new work over an under coat of suitable shade with ordinary paint of approved brand and manufacture | D37: 4 | E37: 0.75 | G37: 2.1 | H37: =D37*E37*G37 -> 6.3
D38: 6 | E38: 0.95 | G38: 2.1 | H38: =D38*E38*G38 -> 11.97
D39: 1 | E39: 1.2 | G39: 2.1 | H39: =D39*E39*G39 -> 2.52
D40: 5 | E40: 0.75 | G40: 2 | H40: =D40*E40*G40 -> 7.5
H41: =SUM(H37:H40) -> 28.29
D42: 2 | E42: 28.29 | H42: =D42*E42 -> 56.58 | I42: SQM
C44: DOOR AND WINDOW REPAIRING WORK
...
